BEGIN:VCALENDAR
VERSION:2.0
PRODID:-//FeG Würzburg - ECPv5.16.1.1//NONSGML v1.0//EN
CALSCALE:GREGORIAN
METHOD:PUBLISH
X-WR-CALNAME:FeG Würzburg
X-ORIGINAL-URL:https://www.feg-wuerzburg.de
X-WR-CALDESC:Veranstaltungen für FeG Würzburg
REFRESH-INTERVAL;VALUE=DURATION:PT1H
X-Robots-Tag:noindex
X-PUBLISHED-TTL:PT1H
BEGIN:VTIMEZONE
TZID:Europe/Berlin
BEGIN:DAYLIGHT
TZOFFSETFROM:+0100
TZOFFSETTO:+0200
TZNAME:CEST
DTSTART:20260329T010000
END:DAYLIGHT
BEGIN:STANDARD
TZOFFSETFROM:+0200
TZOFFSETTO:+0100
TZNAME:CET
DTSTART:20261025T010000
END:STANDARD
END:VTIMEZONE
BEGIN:VEVENT
DTSTART;TZID=Europe/Berlin:20260423T193000
DTEND;TZID=Europe/Berlin:20260423T220000
DTSTAMP:20260423T232355
CREATED:20260413T134502Z
LAST-MODIFIED:20260413T134502Z
UID:20675-1776972600-1776981600@www.feg-wuerzburg.de
SUMMARY:Hoffnungsfest
DESCRIPTION:Treffen für Alleinerziehende
URL:https://www.feg-wuerzburg.de/aktivitaeten/hoffnungsfest-5/
CATEGORIES:Gottesdienst
END:VEVENT
BEGIN:VEVENT
DTSTART;TZID=Europe/Berlin:20260422T100000
DTEND;TZID=Europe/Berlin:20260422T113000
DTSTAMP:20260423T232355
CREATED:20260331T134503Z
LAST-MODIFIED:20260331T134503Z
UID:20644-1776852000-1776857400@www.feg-wuerzburg.de
SUMMARY:ElKi
DESCRIPTION:Treffen für Alleinerziehende
URL:https://www.feg-wuerzburg.de/aktivitaeten/elki-2/
CATEGORIES:Eltern-Kind-Treff
END:VEVENT
BEGIN:VEVENT
DTSTART;TZID=Europe/Berlin:20260419T100000
DTEND;TZID=Europe/Berlin:20260419T113000
DTSTAMP:20260423T232355
CREATED:20260415T134502Z
LAST-MODIFIED:20260415T134502Z
UID:20678-1776592800-1776598200@www.feg-wuerzburg.de
SUMMARY:Gottesdienst
DESCRIPTION:Treffen für Alleinerziehende
URL:https://www.feg-wuerzburg.de/aktivitaeten/gottesdienst-8/
CATEGORIES:Gottesdienst
END:VEVENT
BEGIN:VEVENT
DTSTART;TZID=Europe/Berlin:20260419T100000
DTEND;TZID=Europe/Berlin:20260419T113000
DTSTAMP:20260423T232355
CREATED:20250802T134502Z
LAST-MODIFIED:20250802T134502Z
UID:19850-1776592800-1776598200@www.feg-wuerzburg.de
SUMMARY:Gottesdienst
DESCRIPTION:Treffen für Alleinerziehende
URL:https://www.feg-wuerzburg.de/aktivitaeten/gottesdienst-28/
CATEGORIES:Gottesdienst
END:VEVENT
BEGIN:VEVENT
DTSTART;TZID=Europe/Berlin:20260417T193000
DTEND;TZID=Europe/Berlin:20260417T220000
DTSTAMP:20260423T232355
CREATED:20260224T134503Z
LAST-MODIFIED:20260312T134503Z
UID:20535-1776454200-1776463200@www.feg-wuerzburg.de
SUMMARY:Jüngerschaftskurs
DESCRIPTION:Treffen für Alleinerziehende
URL:https://www.feg-wuerzburg.de/aktivitaeten/juengerschaftskurs-20/
CATEGORIES:Seminare
END:VEVENT
BEGIN:VEVENT
DTSTART;TZID=Europe/Berlin:20260417T190000
DTEND;TZID=Europe/Berlin:20260417T220000
DTSTAMP:20260423T232355
CREATED:20251216T134503Z
LAST-MODIFIED:20251216T134503Z
UID:20307-1776452400-1776463200@www.feg-wuerzburg.de
SUMMARY:Team J
DESCRIPTION:Treffen für Alleinerziehende
URL:https://www.feg-wuerzburg.de/aktivitaeten/team-j-21/
CATEGORIES:Jugend
END:VEVENT
BEGIN:VEVENT
DTSTART;TZID=Europe/Berlin:20260417T161500
DTEND;TZID=Europe/Berlin:20260417T180000
DTSTAMP:20260423T232355
CREATED:20260416T134502Z
LAST-MODIFIED:20260416T134502Z
UID:20679-1776442500-1776448800@www.feg-wuerzburg.de
SUMMARY:You Are Not Alone
DESCRIPTION:Treffen für Alleinerziehende
URL:https://www.feg-wuerzburg.de/aktivitaeten/you-are-not-alone-3/
CATEGORIES:Seminare
END:VEVENT
BEGIN:VEVENT
DTSTART;TZID=Europe/Berlin:20260417T161500
DTEND;TZID=Europe/Berlin:20260417T180000
DTSTAMP:20260423T232355
CREATED:20260319T134503Z
LAST-MODIFIED:20260319T134503Z
UID:20603-1776442500-1776448800@www.feg-wuerzburg.de
SUMMARY:You Are Not Alone
DESCRIPTION:Treffen für Alleinerziehende
URL:https://www.feg-wuerzburg.de/aktivitaeten/you-are-not-alone-2/
CATEGORIES:Seminare
END:VEVENT
BEGIN:VEVENT
DTSTART;TZID=Europe/Berlin:20260417T161500
DTEND;TZID=Europe/Berlin:20260417T180000
DTSTAMP:20260423T232355
CREATED:20250902T134502Z
LAST-MODIFIED:20250902T134502Z
UID:19946-1776442500-1776448800@www.feg-wuerzburg.de
SUMMARY:You Are Not Alone
DESCRIPTION:Treffen für Alleinerziehende
URL:https://www.feg-wuerzburg.de/aktivitaeten/you-are-not-alone-7/
CATEGORIES:Seminare
END:VEVENT
BEGIN:VEVENT
DTSTART;TZID=Europe/Berlin:20260417T160000
DTEND;TZID=Europe/Berlin:20260417T180000
DTSTAMP:20260423T232355
CREATED:20251216T134504Z
LAST-MODIFIED:20251216T134504Z
UID:20336-1776441600-1776448800@www.feg-wuerzburg.de
SUMMARY:Pfadfinder
DESCRIPTION:Treffen für Alleinerziehende
URL:https://www.feg-wuerzburg.de/aktivitaeten/pfadfinder-27/
CATEGORIES:Pfadfinder
END:VEVENT
BEGIN:VEVENT
DTSTART;TZID=Europe/Berlin:20260417T090000
DTEND;TZID=Europe/Berlin:20260417T120000
DTSTAMP:20260423T232355
CREATED:20260217T134503Z
LAST-MODIFIED:20260217T134503Z
UID:20480-1776416400-1776427200@www.feg-wuerzburg.de
SUMMARY:Straßeneinsätze am Neumünster
DESCRIPTION:Treffen für Alleinerziehende
URL:https://www.feg-wuerzburg.de/aktivitaeten/strasseneinsaetze-am-neumuenster-9/
CATEGORIES:Umfeld
END:VEVENT
BEGIN:VEVENT
DTSTART;VALUE=DATE:20260417
DTEND;VALUE=DATE:20260418
DTSTAMP:20260423T232355
CREATED:20250821T134504Z
LAST-MODIFIED:20250821T134504Z
UID:19922-1776384000-1776470399@www.feg-wuerzburg.de
SUMMARY:Freizeit des Biblischen Unterrichts
DESCRIPTION:Treffen für Alleinerziehende
URL:https://www.feg-wuerzburg.de/aktivitaeten/freizeit-des-biblischen-unterrichts/
CATEGORIES:Biblischer Unterricht
END:VEVENT
BEGIN:VEVENT
DTSTART;TZID=Europe/Berlin:20260416T193000
DTEND;TZID=Europe/Berlin:20260416T213000
DTSTAMP:20260423T232355
CREATED:20260318T134503Z
LAST-MODIFIED:20260318T134503Z
UID:20602-1776367800-1776375000@www.feg-wuerzburg.de
SUMMARY:Seelsorgeschulung
DESCRIPTION:Treffen für Alleinerziehende
URL:https://www.feg-wuerzburg.de/aktivitaeten/seelsorgeschulung/
CATEGORIES:Seminare
END:VEVENT
BEGIN:VEVENT
DTSTART;TZID=Europe/Berlin:20260415T100000
DTEND;TZID=Europe/Berlin:20260415T113000
DTSTAMP:20260423T232355
CREATED:20260331T134503Z
LAST-MODIFIED:20260331T134503Z
UID:20643-1776247200-1776252600@www.feg-wuerzburg.de
SUMMARY:ElKi
DESCRIPTION:Treffen für Alleinerziehende
URL:https://www.feg-wuerzburg.de/aktivitaeten/elki/
CATEGORIES:Eltern-Kind-Treff
END:VEVENT
BEGIN:VEVENT
DTSTART;TZID=Europe/Berlin:20260412T140000
DTEND;TZID=Europe/Berlin:20260412T180000
DTSTAMP:20260423T232355
CREATED:20251122T134502Z
LAST-MODIFIED:20251122T134502Z
UID:20237-1776002400-1776016800@www.feg-wuerzburg.de
SUMMARY:Gottesdienst für Gehörlose
DESCRIPTION:Treffen für Alleinerziehende
URL:https://www.feg-wuerzburg.de/aktivitaeten/gottesdienst-fuer-gehoerlose-9/
CATEGORIES:Gottesdienst
END:VEVENT
BEGIN:VEVENT
DTSTART;TZID=Europe/Berlin:20260412T100000
DTEND;TZID=Europe/Berlin:20260412T113000
DTSTAMP:20260423T232355
CREATED:20260408T134501Z
LAST-MODIFIED:20260408T134501Z
UID:20669-1775988000-1775993400@www.feg-wuerzburg.de
SUMMARY:Gottesdienst
DESCRIPTION:Treffen für Alleinerziehende
URL:https://www.feg-wuerzburg.de/aktivitaeten/gottesdienst-7/
CATEGORIES:Gottesdienst
END:VEVENT
BEGIN:VEVENT
DTSTART;TZID=Europe/Berlin:20260412T100000
DTEND;TZID=Europe/Berlin:20260412T113000
DTSTAMP:20260423T232355
CREATED:20250802T134502Z
LAST-MODIFIED:20250802T134502Z
UID:19849-1775988000-1775993400@www.feg-wuerzburg.de
SUMMARY:Gottesdienst
DESCRIPTION:Treffen für Alleinerziehende
URL:https://www.feg-wuerzburg.de/aktivitaeten/gottesdienst-27/
CATEGORIES:Gottesdienst
END:VEVENT
BEGIN:VEVENT
DTSTART;TZID=Europe/Berlin:20260411T100000
DTEND;TZID=Europe/Berlin:20260411T130000
DTSTAMP:20260423T232355
CREATED:20250821T134503Z
LAST-MODIFIED:20250821T134503Z
UID:19912-1775901600-1775912400@www.feg-wuerzburg.de
SUMMARY:Biblischer Unterricht
DESCRIPTION:Treffen für Alleinerziehende
URL:https://www.feg-wuerzburg.de/aktivitaeten/biblischer-unterricht-8/
CATEGORIES:Biblischer Unterricht
END:VEVENT
BEGIN:VEVENT
DTSTART;TZID=Europe/Berlin:20260410T193000
DTEND;TZID=Europe/Berlin:20260410T220000
DTSTAMP:20260423T232355
CREATED:20260224T134503Z
LAST-MODIFIED:20260312T134503Z
UID:20534-1775849400-1775858400@www.feg-wuerzburg.de
SUMMARY:Jüngerschaftskurs
DESCRIPTION:Treffen für Alleinerziehende
URL:https://www.feg-wuerzburg.de/aktivitaeten/juengerschaftskurs-19/
CATEGORIES:Seminare
END:VEVENT
BEGIN:VEVENT
DTSTART;TZID=Europe/Berlin:20260410T090000
DTEND;TZID=Europe/Berlin:20260410T120000
DTSTAMP:20260423T232355
CREATED:20260217T134503Z
LAST-MODIFIED:20260217T134503Z
UID:20479-1775811600-1775822400@www.feg-wuerzburg.de
SUMMARY:Straßeneinsätze am Neumünster
DESCRIPTION:Treffen für Alleinerziehende
URL:https://www.feg-wuerzburg.de/aktivitaeten/strasseneinsaetze-am-neumuenster-8/
CATEGORIES:Umfeld
END:VEVENT
BEGIN:VEVENT
DTSTART;TZID=Europe/Berlin:20260408T100000
DTEND;TZID=Europe/Berlin:20260408T113000
DTSTAMP:20260423T232355
CREATED:20251011T134503Z
LAST-MODIFIED:20251111T134503Z
UID:19998-1775642400-1775647800@www.feg-wuerzburg.de
SUMMARY:Gebetstreff
DESCRIPTION:Treffen für Alleinerziehende
URL:https://www.feg-wuerzburg.de/aktivitaeten/gebetstreff-7/
CATEGORIES:Gebetsfrühstück
END:VEVENT
BEGIN:VEVENT
DTSTART;TZID=Europe/Berlin:20260405T100000
DTEND;TZID=Europe/Berlin:20260405T113000
DTSTAMP:20260423T232355
CREATED:20250829T134502Z
LAST-MODIFIED:20260405T134502Z
UID:19930-1775383200-1775388600@www.feg-wuerzburg.de
SUMMARY:Ostergottesdienst
DESCRIPTION:Treffen für Alleinerziehende
URL:https://www.feg-wuerzburg.de/aktivitaeten/ostergottesdienst/
CATEGORIES:Gottesdienst
END:VEVENT
BEGIN:VEVENT
DTSTART;TZID=Europe/Berlin:20260405T100000
DTEND;TZID=Europe/Berlin:20260405T113000
DTSTAMP:20260423T232355
CREATED:20250802T134502Z
LAST-MODIFIED:20250802T134502Z
UID:19848-1775383200-1775388600@www.feg-wuerzburg.de
SUMMARY:Gottesdienst
DESCRIPTION:Treffen für Alleinerziehende
URL:https://www.feg-wuerzburg.de/aktivitaeten/gottesdienst-26/
CATEGORIES:Gottesdienst
END:VEVENT
BEGIN:VEVENT
DTSTART;TZID=Europe/Berlin:20260404T183000
DTEND;TZID=Europe/Berlin:20260404T220000
DTSTAMP:20260423T232355
CREATED:20260217T134503Z
LAST-MODIFIED:20260217T134503Z
UID:20471-1775327400-1775340000@www.feg-wuerzburg.de
SUMMARY:Adonia
DESCRIPTION:Treffen für Alleinerziehende
URL:https://www.feg-wuerzburg.de/aktivitaeten/adonia-2/
CATEGORIES:Umfeld
END:VEVENT
BEGIN:VEVENT
DTSTART;TZID=Europe/Berlin:20260403T190000
DTEND;TZID=Europe/Berlin:20260403T220000
DTSTAMP:20260423T232355
CREATED:20260403T134503Z
LAST-MODIFIED:20260403T134503Z
UID:20667-1775242800-1775253600@www.feg-wuerzburg.de
SUMMARY:Gebetsabend
DESCRIPTION:Treffen für Alleinerziehende
URL:https://www.feg-wuerzburg.de/aktivitaeten/gebetsabend/
CATEGORIES:Jugend
END:VEVENT
BEGIN:VEVENT
DTSTART;TZID=Europe/Berlin:20260403T100000
DTEND;TZID=Europe/Berlin:20260403T113000
DTSTAMP:20260423T232355
CREATED:20250802T134502Z
LAST-MODIFIED:20260328T134502Z
UID:19863-1775210400-1775215800@www.feg-wuerzburg.de
SUMMARY:Karfreitags-Gottesdienst mit Abendmahl
DESCRIPTION:Treffen für Alleinerziehende
URL:https://www.feg-wuerzburg.de/aktivitaeten/karfreitags-gottesdienst-mit-abendmahl/
CATEGORIES:Gottesdienst
END:VEVENT
BEGIN:VEVENT
DTSTART;TZID=Europe/Berlin:20260403T090000
DTEND;TZID=Europe/Berlin:20260403T120000
DTSTAMP:20260423T232355
CREATED:20260217T134503Z
LAST-MODIFIED:20260217T134503Z
UID:20478-1775206800-1775217600@www.feg-wuerzburg.de
SUMMARY:Straßeneinsätze am Neumünster
DESCRIPTION:Treffen für Alleinerziehende
URL:https://www.feg-wuerzburg.de/aktivitaeten/strasseneinsaetze-am-neumuenster-7/
CATEGORIES:Umfeld
END:VEVENT
BEGIN:VEVENT
DTSTART;TZID=Europe/Berlin:20260329T120000
DTEND;TZID=Europe/Berlin:20260329T150000
DTSTAMP:20260423T232355
CREATED:20250821T134504Z
LAST-MODIFIED:20250821T134504Z
UID:19921-1774785600-1774796400@www.feg-wuerzburg.de
SUMMARY:Biblischer Unterricht
DESCRIPTION:Treffen für Alleinerziehende
URL:https://www.feg-wuerzburg.de/aktivitaeten/biblischer-unterricht-16/
CATEGORIES:Biblischer Unterricht
END:VEVENT
BEGIN:VEVENT
DTSTART;TZID=Europe/Berlin:20260329T100000
DTEND;TZID=Europe/Berlin:20260329T113000
DTSTAMP:20260423T232355
CREATED:20260329T134502Z
LAST-MODIFIED:20260329T134502Z
UID:20606-1774778400-1774783800@www.feg-wuerzburg.de
SUMMARY:Gottesdienst
DESCRIPTION:Treffen für Alleinerziehende
URL:https://www.feg-wuerzburg.de/aktivitaeten/gottesdienst-4/
CATEGORIES:Gottesdienst
END:VEVENT
BEGIN:VEVENT
DTSTART;TZID=Europe/Berlin:20260329T100000
DTEND;TZID=Europe/Berlin:20260329T113000
DTSTAMP:20260423T232355
CREATED:20250802T134502Z
LAST-MODIFIED:20250802T134502Z
UID:19847-1774778400-1774783800@www.feg-wuerzburg.de
SUMMARY:Gottesdienst
DESCRIPTION:Treffen für Alleinerziehende
URL:https://www.feg-wuerzburg.de/aktivitaeten/gottesdienst-25/
CATEGORIES:Gottesdienst
END:VEVENT
END:VCALENDAR